BEGIN:VCALENDAR
VERSION:2.0
PRODID:-//Minnesota Counties Intergovernmental Trust - ECPv6.15.20//NONSGML v1.0//EN
CALSCALE:GREGORIAN
METHOD:PUBLISH
X-WR-CALNAME:Minnesota Counties Intergovernmental Trust
X-ORIGINAL-URL:https://www.mcit.org
X-WR-CALDESC:Events for Minnesota Counties Intergovernmental Trust
REFRESH-INTERVAL;VALUE=DURATION:PT1H
X-Robots-Tag:noindex
X-PUBLISHED-TTL:PT1H
BEGIN:VTIMEZONE
TZID:America/Chicago
BEGIN:DAYLIGHT
TZOFFSETFROM:-0600
TZOFFSETTO:-0500
TZNAME:CDT
DTSTART:20250309T080000
END:DAYLIGHT
BEGIN:STANDARD
TZOFFSETFROM:-0500
TZOFFSETTO:-0600
TZNAME:CST
DTSTART:20251102T070000
END:STANDARD
BEGIN:DAYLIGHT
TZOFFSETFROM:-0600
TZOFFSETTO:-0500
TZNAME:CDT
DTSTART:20260308T080000
END:DAYLIGHT
BEGIN:STANDARD
TZOFFSETFROM:-0500
TZOFFSETTO:-0600
TZNAME:CST
DTSTART:20261101T070000
END:STANDARD
BEGIN:DAYLIGHT
TZOFFSETFROM:-0600
TZOFFSETTO:-0500
TZNAME:CDT
DTSTART:20270314T080000
END:DAYLIGHT
BEGIN:STANDARD
TZOFFSETFROM:-0500
TZOFFSETTO:-0600
TZNAME:CST
DTSTART:20271107T070000
END:STANDARD
END:VTIMEZONE
BEGIN:VEVENT
DTSTART;TZID=America/Chicago:20260218T110000
DTEND;TZID=America/Chicago:20260218T120000
DTSTAMP:20260421T052457
CREATED:20251030T165358Z
LAST-MODIFIED:20260226T163303Z
UID:15047-1771412400-1771416000@www.mcit.org
SUMMARY:Overview of a Recovery Friendly Workplace (Feb. 18)
DESCRIPTION:The Minnesota Safety Council presents “Overview of a Recovery Friendly Workplace.” A recovery friendly workplace: \n\nCreates safer work environments\nEducates supervisors about possible employee impairment\nHelps staff stay updated on trends with substance in the workplace that can cause danger to the workforce\nContributes to employee retention\n\nRecovery friendly workplace employers are committed to creating environments where employees feel supported and empowered to seek help when needed. \n \nNo need to register for this event\, just click the button above to join the live session. \nWhat You Learn\nThe informational session is offered specifically for MCIT members to learn more about: \n\nWhat a recovery friendly workplace is and its process\nBenefits of a recovery friendly workplace\nHow to schedule free 2.5-hour reasonable suspicion training through the Minnesota Safety Council\n\nWho Should Attend\nThis session is appropriate for those who are involved in developing and enforcing personnel policies and programs\, as well as risk management and workplace safety programs. This may include: \n\nHuman resources directors/managers or those tasked with this role\nAdministrators/coordinators\nExecutive directors\nRisk managers\n\nWhat Is Reasonable Suspicion Training?\nReasonable suspicion training is an essential step in fostering a recovery friendly environment. It gives supervisors the skills to recognize and respond to possible substance use with care\, help protect employees’ health and maintain a safe workplace. Through a new collaboration with the Minnesota Department of Health\, the Minnesota Safety Council offers reasonable suspicion training to employers at no cost. This is the first step in becoming a recovery friendly workplace. \n \nNo need to register for this event\, just click the button above to join the live session. \n\nMCIT Members Have MSC Membership\, Too\nMCIT provides each of its members with a Minnesota Safety Council membership at no additional cost\, giving members even more services and programs to support their loss control and risk management efforts. Visit the Minnesota Safety Council website to learn about the programs and services it offers. \nThe mission of the Safety Council is to make Minnesota a safer and healthier place to live by helping prevent unintentional injuries at home\, on the road\, at work and at play.
URL:https://www.mcit.org/event/overview-recovery-friendly-workplace-feb18/
LOCATION:Virtual
CATEGORIES:Human Resources,Webinar
ATTACH;FMTTYPE=image/jpeg:https://www.mcit.org/wp-content/uploads/2025/11/Sunstance_Use_Recovery_Friendly_Workplace_Homepage_Page_2026.jpg
END:VEVENT
END:VCALENDAR